BEGIN:VCALENDAR
VERSION:2.0
PRODID:-//A+ Charter Schools - ECPv6.15.17.1//NONSGML v1.0//EN
CALSCALE:GREGORIAN
METHOD:PUBLISH
X-WR-CALNAME:A+ Charter Schools
X-ORIGINAL-URL:https://www.aplusaz.org
X-WR-CALDESC:Events for A+ Charter Schools
REFRESH-INTERVAL;VALUE=DURATION:PT1H
X-Robots-Tag:noindex
X-PUBLISHED-TTL:PT1H
BEGIN:VTIMEZONE
TZID:America/Phoenix
BEGIN:STANDARD
TZOFFSETFROM:-0700
TZOFFSETTO:-0700
TZNAME:MST
DTSTART:20220101T000000
END:STANDARD
END:VTIMEZONE
BEGIN:VEVENT
DTSTART;VALUE=DATE:20230904
DTEND;VALUE=DATE:20230905
DTSTAMP:20260420T032148
CREATED:20230515T233309Z
LAST-MODIFIED:20230515T233309Z
UID:10000030-1693785600-1693871999@www.aplusaz.org
SUMMARY:Labor Day - No School
DESCRIPTION:
URL:https://www.aplusaz.org/calendar-event/labor-day-no-school
END:VEVENT
END:VCALENDAR