BEGIN:VCALENDAR
VERSION:2.0
PRODID:-//A+ Charter Schools - ECPv6.15.17.1//NONSGML v1.0//EN
CALSCALE:GREGORIAN
METHOD:PUBLISH
X-WR-CALNAME:A+ Charter Schools
X-ORIGINAL-URL:https://www.aplusaz.org
X-WR-CALDESC:Events for A+ Charter Schools
REFRESH-INTERVAL;VALUE=DURATION:PT1H
X-Robots-Tag:noindex
X-PUBLISHED-TTL:PT1H
BEGIN:VTIMEZONE
TZID:America/Phoenix
BEGIN:STANDARD
TZOFFSETFROM:-0700
TZOFFSETTO:-0700
TZNAME:MST
DTSTART:20220101T000000
END:STANDARD
END:VTIMEZONE
BEGIN:VEVENT
DTSTART;VALUE=DATE:20230929
DTEND;VALUE=DATE:20230930
DTSTAMP:20260420T032152
CREATED:20230912T172942Z
LAST-MODIFIED:20230912T173110Z
UID:10000131-1695945600-1696031999@www.aplusaz.org
SUMMARY:Friday No School
DESCRIPTION:
URL:https://www.aplusaz.org/calendar-event/friday-no-school/2023-09-29
END:VEVENT
END:VCALENDAR