BEGIN:VCALENDAR
VERSION:2.0
PRODID:-//A+ Charter Schools - ECPv6.15.17.1//NONSGML v1.0//EN
CALSCALE:GREGORIAN
METHOD:PUBLISH
X-ORIGINAL-URL:https://www.aplusaz.org
X-WR-CALDESC:Events for A+ Charter Schools
REFRESH-INTERVAL;VALUE=DURATION:PT1H
X-Robots-Tag:noindex
X-PUBLISHED-TTL:PT1H
BEGIN:VTIMEZONE
TZID:America/Phoenix
BEGIN:STANDARD
TZOFFSETFROM:-0700
TZOFFSETTO:-0700
TZNAME:MST
DTSTART:20220101T000000
END:STANDARD
END:VTIMEZONE
BEGIN:VEVENT
DTSTART;VALUE=DATE:20230816
DTEND;VALUE=DATE:20230817
DTSTAMP:20260420T024553
CREATED:20230816T141312Z
LAST-MODIFIED:20230816T141312Z
UID:10000083-1692144000-1692230399@www.aplusaz.org
SUMMARY:NWEA Testing for Jr. High
DESCRIPTION:
URL:https://www.aplusaz.org/calendar-event/nwea-testing-for-jr-high
END:VEVENT
BEGIN:VEVENT
DTSTART;VALUE=DATE:20230817
DTEND;VALUE=DATE:20230818
DTSTAMP:20260420T024553
CREATED:20230816T141324Z
LAST-MODIFIED:20230816T141324Z
UID:10000084-1692230400-1692316799@www.aplusaz.org
SUMMARY:NWEA Testing for Jr. High
DESCRIPTION:
URL:https://www.aplusaz.org/calendar-event/nwea-testing-for-jr-high-2
END:VEVENT
BEGIN:VEVENT
DTSTART;VALUE=DATE:20230821
DTEND;VALUE=DATE:20230825
DTSTAMP:20260420T024553
CREATED:20230822T215257Z
LAST-MODIFIED:20230822T215356Z
UID:10000087-1692576000-1692921599@www.aplusaz.org
SUMMARY:Spirit Week
DESCRIPTION:Monday: Character Day\nTuesday: Black Out\nWednesday: On Wednesday We Wear Pink\nThursday: Western Day
URL:https://www.aplusaz.org/calendar-event/spirit-week
END:VEVENT
BEGIN:VEVENT
DTSTART;VALUE=DATE:20230823
DTEND;VALUE=DATE:20230824
DTSTAMP:20260420T024553
CREATED:20230816T141400Z
LAST-MODIFIED:20230816T141400Z
UID:10000086-1692748800-1692835199@www.aplusaz.org
SUMMARY:NWEA Testing for High School
DESCRIPTION:
URL:https://www.aplusaz.org/calendar-event/nwea-testing-for-high-school-2
END:VEVENT
BEGIN:VEVENT
DTSTART;VALUE=DATE:20230824
DTEND;VALUE=DATE:20230825
DTSTAMP:20260420T024553
CREATED:20230816T141346Z
LAST-MODIFIED:20230822T215203Z
UID:10000085-1692835200-1692921599@www.aplusaz.org
SUMMARY:NWEA Testing for High School
DESCRIPTION:
URL:https://www.aplusaz.org/calendar-event/nwea-testing-for-high-school
END:VEVENT
END:VCALENDAR