BEGIN:VCALENDAR
VERSION:2.0
PRODID:-//A+ Charter Schools - ECPv6.15.17.1//NONSGML v1.0//EN
CALSCALE:GREGORIAN
METHOD:PUBLISH
X-WR-CALNAME:A+ Charter Schools
X-ORIGINAL-URL:https://www.aplusaz.org
X-WR-CALDESC:Events for A+ Charter Schools
REFRESH-INTERVAL;VALUE=DURATION:PT1H
X-Robots-Tag:noindex
X-PUBLISHED-TTL:PT1H
BEGIN:VTIMEZONE
TZID:America/Phoenix
BEGIN:STANDARD
TZOFFSETFROM:-0700
TZOFFSETTO:-0700
TZNAME:MST
DTSTART:20240101T000000
END:STANDARD
END:VTIMEZONE
BEGIN:VEVENT
DTSTART;VALUE=DATE:20250502
DTEND;VALUE=DATE:20250503
DTSTAMP:20260419T191517
CREATED:20240604T163630Z
LAST-MODIFIED:20240604T163630Z
UID:10000390-1746144000-1746230399@www.aplusaz.org
SUMMARY:Friday No School
DESCRIPTION:
URL:https://www.aplusaz.org/calendar-event/friday-no-school-2/2025-05-02
END:VEVENT
BEGIN:VEVENT
DTSTART;TZID=America/Phoenix:20250508T160000
DTEND;TZID=America/Phoenix:20250508T180000
DTSTAMP:20260419T191517
CREATED:20250416T154644Z
LAST-MODIFIED:20250416T154644Z
UID:10000455-1746720000-1746727200@www.aplusaz.org
SUMMARY:3rd Annual Archer Showcase
DESCRIPTION:
URL:https://www.aplusaz.org/calendar-event/3rd-annual-archer-showcase
LOCATION:A+ Charter School\, 41735 Alan Stephens\, Maricopa\, AZ
END:VEVENT
BEGIN:VEVENT
DTSTART;VALUE=DATE:20250509
DTEND;VALUE=DATE:20250510
DTSTAMP:20260419T191517
CREATED:20240604T163630Z
LAST-MODIFIED:20240604T163630Z
UID:10000391-1746748800-1746835199@www.aplusaz.org
SUMMARY:Friday No School
DESCRIPTION:
URL:https://www.aplusaz.org/calendar-event/friday-no-school-2/2025-05-09
END:VEVENT
BEGIN:VEVENT
DTSTART;VALUE=DATE:20250516
DTEND;VALUE=DATE:20250517
DTSTAMP:20260419T191517
CREATED:20240604T163630Z
LAST-MODIFIED:20240604T163630Z
UID:10000392-1747353600-1747439999@www.aplusaz.org
SUMMARY:Friday No School
DESCRIPTION:
URL:https://www.aplusaz.org/calendar-event/friday-no-school-2/2025-05-16
END:VEVENT
BEGIN:VEVENT
DTSTART;VALUE=DATE:20250522
DTEND;VALUE=DATE:20250523
DTSTAMP:20260419T191517
CREATED:20240604T164817Z
LAST-MODIFIED:20240604T164817Z
UID:10000408-1747872000-1747958399@www.aplusaz.org
SUMMARY:End of Term
DESCRIPTION:
URL:https://www.aplusaz.org/calendar-event/end-of-term-6
END:VEVENT
BEGIN:VEVENT
DTSTART;VALUE=DATE:20250522
DTEND;VALUE=DATE:20250523
DTSTAMP:20260419T191517
CREATED:20240604T164838Z
LAST-MODIFIED:20240604T164838Z
UID:10000409-1747872000-1747958399@www.aplusaz.org
SUMMARY:Last Day of School
DESCRIPTION:
URL:https://www.aplusaz.org/calendar-event/last-day-of-school
END:VEVENT
BEGIN:VEVENT
DTSTART;VALUE=DATE:20250526
DTEND;VALUE=DATE:20250527
DTSTAMP:20260419T191517
CREATED:20240604T164858Z
LAST-MODIFIED:20240604T164858Z
UID:10000410-1748217600-1748303999@www.aplusaz.org
SUMMARY:Memorial Day
DESCRIPTION:
URL:https://www.aplusaz.org/calendar-event/memorial-day-2
END:VEVENT
END:VCALENDAR