BEGIN:VCALENDAR
VERSION:2.0
PRODID:-//A+ Charter Schools - ECPv6.15.17.1//NONSGML v1.0//EN
CALSCALE:GREGORIAN
METHOD:PUBLISH
X-WR-CALNAME:A+ Charter Schools
X-ORIGINAL-URL:https://www.aplusaz.org
X-WR-CALDESC:Events for A+ Charter Schools
REFRESH-INTERVAL;VALUE=DURATION:PT1H
X-Robots-Tag:noindex
X-PUBLISHED-TTL:PT1H
BEGIN:VTIMEZONE
TZID:America/Phoenix
BEGIN:STANDARD
TZOFFSETFROM:-0700
TZOFFSETTO:-0700
TZNAME:MST
DTSTART:20240101T000000
END:STANDARD
END:VTIMEZONE
BEGIN:VEVENT
DTSTART;VALUE=DATE:20250901
DTEND;VALUE=DATE:20250902
DTSTAMP:20260420T032249
CREATED:20250127T181021Z
LAST-MODIFIED:20250127T181021Z
UID:10000445-1756684800-1756771199@www.aplusaz.org
SUMMARY:Labor Day - No School
DESCRIPTION:
URL:https://www.aplusaz.org/calendar-event/labor-day-no-school-3
END:VEVENT
BEGIN:VEVENT
DTSTART;TZID=America/Phoenix:20250905T180000
DTEND;TZID=America/Phoenix:20250905T180000
DTSTAMP:20260420T032249
CREATED:20250910T211953Z
LAST-MODIFIED:20250910T211953Z
UID:10000461-1757095200-1757095200@www.aplusaz.org
SUMMARY:High School Soccer @ Copper Sky
DESCRIPTION:
URL:https://www.aplusaz.org/calendar-event/high-school-soccer-copper-sky
END:VEVENT
BEGIN:VEVENT
DTSTART;VALUE=DATE:20250906
DTEND;VALUE=DATE:20250907
DTSTAMP:20260420T032249
CREATED:20250910T212057Z
LAST-MODIFIED:20250910T212057Z
UID:10000462-1757116800-1757203199@www.aplusaz.org
SUMMARY:Cross Country Meet @ Gilbert
DESCRIPTION:
URL:https://www.aplusaz.org/calendar-event/cross-country-meet-gilbert
END:VEVENT
BEGIN:VEVENT
DTSTART;VALUE=DATE:20250910
DTEND;VALUE=DATE:20250911
DTSTAMP:20260420T032249
CREATED:20250910T211849Z
LAST-MODIFIED:20250910T211849Z
UID:10000460-1757462400-1757548799@www.aplusaz.org
SUMMARY:Fall Pictures
DESCRIPTION:
URL:https://www.aplusaz.org/calendar-event/fall-pictures-2
END:VEVENT
BEGIN:VEVENT
DTSTART;TZID=America/Phoenix:20250920T190000
DTEND;TZID=America/Phoenix:20250920T210000
DTSTAMP:20260420T032249
CREATED:20250910T211756Z
LAST-MODIFIED:20250910T211756Z
UID:10000459-1758394800-1758402000@www.aplusaz.org
SUMMARY:Homecoming Dance
DESCRIPTION:
URL:https://www.aplusaz.org/calendar-event/homecoming-dance
LOCATION:Leading Edge Academy
END:VEVENT
BEGIN:VEVENT
DTSTART;TZID=America/Phoenix:20250925T163000
DTEND;TZID=America/Phoenix:20250925T183000
DTSTAMP:20260420T032249
CREATED:20250923T210611Z
LAST-MODIFIED:20250923T210611Z
UID:10000463-1758817800-1758825000@www.aplusaz.org
SUMMARY:Student-Led Conferences
DESCRIPTION:Attend our student-led conferences on Thursday\, September 25 from 4:30 to 6:30 p.m. These conferences are exciting opportunities for our students to take ownership of their learning. They allow students to showcase their progress\, reflect on their goals\, and share their accomplishments with you. It’s also a wonderful way to celebrate their growth and strengthen the partnership between home and school. \nWhile these conferences are primarily student-driven and focused on sharing work\, if you would like to schedule a one-on-one meeting with a teacher regarding student progress or grades\, please reach out directly to the teacher via email to arrange an appointment.
URL:https://www.aplusaz.org/calendar-event/student-led-conferences-3
END:VEVENT
BEGIN:VEVENT
DTSTART;VALUE=DATE:20250929
DTEND;VALUE=DATE:20251010
DTSTAMP:20260420T032249
CREATED:20250127T181106Z
LAST-MODIFIED:20250127T181106Z
UID:10000446-1759104000-1760054399@www.aplusaz.org
SUMMARY:Fall Break - No School
DESCRIPTION:
URL:https://www.aplusaz.org/calendar-event/fall-break-no-school-3
END:VEVENT
END:VCALENDAR