BEGIN:VCALENDAR
VERSION:2.0
PRODID:-//A+ Charter Schools - ECPv6.15.17.1//NONSGML v1.0//EN
CALSCALE:GREGORIAN
METHOD:PUBLISH
X-WR-CALNAME:A+ Charter Schools
X-ORIGINAL-URL:https://www.aplusaz.org
X-WR-CALDESC:Events for A+ Charter Schools
REFRESH-INTERVAL;VALUE=DURATION:PT1H
X-Robots-Tag:noindex
X-PUBLISHED-TTL:PT1H
BEGIN:VTIMEZONE
TZID:America/Phoenix
BEGIN:STANDARD
TZOFFSETFROM:-0700
TZOFFSETTO:-0700
TZNAME:MST
DTSTART:20230101T000000
END:STANDARD
END:VTIMEZONE
BEGIN:VEVENT
DTSTART;TZID=America/Phoenix:20240215T180000
DTEND;TZID=America/Phoenix:20240215T200000
DTSTAMP:20260420T160011
CREATED:20240130T213213Z
LAST-MODIFIED:20240130T213213Z
UID:10000309-1708020000-1708027200@www.aplusaz.org
SUMMARY:Central Arizona College Information Night
DESCRIPTION:
URL:https://www.aplusaz.org/calendar-event/central-arizona-college-information-night
LOCATION:Maricopa Campus
END:VEVENT
END:VCALENDAR